BEGIN:VCALENDAR
VERSION:2.0
CALSCALE:GREGORIAN
PRODID:adamgibbons/ics
METHOD:PUBLISH
X-PUBLISHED-TTL:PT1H
BEGIN:VEVENT
UID:254@femcomboi.org
SUMMARY:Cinema en valencià per a tots els públics
DTSTAMP:20260424T141341Z
DTSTART:20260426T160000Z
DTEND:20260426T173000Z
URL:https://femcomboi.org/event/cinema-en-valencia-per-a-tots-els-publics
GEO:40.2157;-0.169301
LOCATION:Casal Popular - Atzeneta del Maestrat - Av. de Castelló\, 41\, Atz
	eneta del Maestrat
STATUS:CONFIRMED
CATEGORIES:Atzeneta del Maestrat,Cine
BEGIN:VALARM
ACTION:DISPLAY
DESCRIPTION:Cinema en valencià per a tots els públics
TRIGGER:-PT1H
END:VALARM
END:VEVENT
END:VCALENDAR
