BEGIN:VCALENDAR
VERSION:2.0
CALSCALE:GREGORIAN
PRODID:adamgibbons/ics
METHOD:PUBLISH
X-PUBLISHED-TTL:PT1H
BEGIN:VEVENT
UID:253@femcomboi.org
SUMMARY:Correllengua agermanat
DTSTAMP:20260424T124053Z
DTSTART:20260424T163000Z
DTEND:20260424T170000Z
URL:https://femcomboi.org/event/correllengua-agermanat
GEO:40.3108;0.121183
LOCATION:Les Coves de Vinromà - les Coves de Vinromà\, la Plana Alta\, Cast
	elló / Castellón\, Comunitat Valenciana\, 12185\, España
STATUS:CONFIRMED
CATEGORIES:Llengua,Valencià
END:VEVENT
END:VCALENDAR
